BEGIN:VCALENDAR
VERSION:2.0
PRODID:-//Plone.org//NONSGML plone.app.event//EN
X-WR-TIMEZONE:Brazil/East
BEGIN:VEVENT
SUMMARY:Título de Cidadão Benemérito a Otávio Batista Rocha Machado
DTSTART;TZID=Brazil/East;VALUE=DATE-TIME:20231220T190000
DTEND;TZID=Brazil/East;VALUE=DATE-TIME:20231220T200000
DTSTAMP;VALUE=DATE-TIME:20260424T165438Z
UID:6703aaf1bb8e43f69a4944fddf7d5c1f@www.montesclaros.mg.leg.br
CREATED;VALUE=DATE-TIME:20231213T130418Z
DESCRIPTION:Autor: Vereador Wilton Dias 
LAST-MODIFIED;VALUE=DATE-TIME:20231213T155112Z
LOCATION:Câmara Municipal de Montes Claros
URL:https://www.montesclaros.mg.leg.br/titulo-de-cidadao-benemerito-ao-sr-
 otavio-batista-rocha-machado
END:VEVENT
BEGIN:VTIMEZONE
TZID:Brazil/East
X-LIC-LOCATION:Brazil/East
BEGIN:DAYLIGHT
DTSTART;VALUE=DATE-TIME:20231015T010000
TZNAME:BRST
TZOFFSETFROM:-0300
TZOFFSETTO:-0200
END:DAYLIGHT
END:VTIMEZONE
END:VCALENDAR
