BEGIN:VCALENDAR
VERSION:2.0
PRODID:-//Plone.org//NONSGML plone.app.event//EN
X-WR-TIMEZONE:Brazil/East
BEGIN:VEVENT
SUMMARY:Sessão Especial: título de cidadão honorário a Rodrigo Machado
  de Andrade
DTSTART;TZID=Brazil/East;VALUE=DATE-TIME:20230519T190000
DTSTAMP;VALUE=DATE-TIME:20260425T134506Z
UID:329d946515bd490c8e8523f88eeb0701@www.montesclaros.mg.leg.br
CREATED;VALUE=DATE-TIME:20230419T122042Z
DESCRIPTION:Autor: Vereador Marcos Nem
LAST-MODIFIED;VALUE=DATE-TIME:20230419T122046Z
URL:https://www.montesclaros.mg.leg.br/institucional/eventos/sessao-especi
 al-titulo-de-cidadao-honorario-a-rodrigo-machado-de-andrade
END:VEVENT
BEGIN:VTIMEZONE
TZID:Brazil/East
X-LIC-LOCATION:Brazil/East
BEGIN:STANDARD
DTSTART;VALUE=DATE-TIME:20230225T230000
TZNAME:BRT
TZOFFSETFROM:-0200
TZOFFSETTO:-0300
END:STANDARD
END:VTIMEZONE
END:VCALENDAR
