BEGIN:VCALENDAR
VERSION:2.0
PRODID:-//Plone.org//NONSGML plone.app.event//EN
X-WR-TIMEZONE:Brazil/East
BEGIN:VEVENT
SUMMARY:Sessão Especial: Título de Cidadão Benemérito a Andrey Soares 
 de Oliveira
DTSTART;TZID=Brazil/East;VALUE=DATE-TIME:20230515T190000
DTEND;TZID=Brazil/East;VALUE=DATE-TIME:20230515T200000
DTSTAMP;VALUE=DATE-TIME:20260425T134526Z
UID:8982fafa7397482595f2d87f32441b78@www.montesclaros.mg.leg.br
CREATED;VALUE=DATE-TIME:20230502T114554Z
DESCRIPTION:Autor: Elair Gomes 
LAST-MODIFIED;VALUE=DATE-TIME:20230502T114558Z
URL:https://www.montesclaros.mg.leg.br/institucional/eventos/sessao-especi
 al-titulo-de-cidadao-benemerito-a-andrey-soares-de-oliveira
END:VEVENT
BEGIN:VTIMEZONE
TZID:Brazil/East
X-LIC-LOCATION:Brazil/East
BEGIN:STANDARD
DTSTART;VALUE=DATE-TIME:20230225T230000
TZNAME:BRT
TZOFFSETFROM:-0200
TZOFFSETTO:-0300
END:STANDARD
END:VTIMEZONE
END:VCALENDAR
