BEGIN:VCALENDAR
VERSION:2.0
PRODID:-//Plone.org//NONSGML plone.app.event//EN
X-WR-TIMEZONE:Brazil/East
BEGIN:VEVENT
SUMMARY:Entrega do Título de Cidadão Honorário de Montes Claros para o 
 Tenente Coronel Guilherme Antunes Machado.
DTSTART;VALUE=DATE:20231219
DTEND;VALUE=DATE:20231220
DTSTAMP;VALUE=DATE-TIME:20260424T134221Z
UID:d4749518b8cc4b18a2ca7b547889d6af@www.montesclaros.mg.leg.br
CREATED;VALUE=DATE-TIME:20231213T155407Z
DESCRIPTION:Vereador Marcos Nem
LAST-MODIFIED;VALUE=DATE-TIME:20231219T114956Z
LOCATION:Plenário 
URL:https://www.montesclaros.mg.leg.br/institucional/eventos/sessao-especi
 al-para-entrega-de-titulo-de-cidadao-honorario-de-montes-claros-para-o-ten
 ente-coronel-guilherme-antunes-machado
END:VEVENT
END:VCALENDAR
