BEGIN:VCALENDAR
VERSION:2.0
PRODID:-//Plone.org//NONSGML plone.app.event//EN
X-WR-TIMEZONE:Brazil/East
BEGIN:VEVENT
SUMMARY: Sessão especial ao dia Municipal de combate ao Feminicídio
DTSTART;TZID=Brazil/East;VALUE=DATE-TIME:20231130T190000
DTEND;TZID=Brazil/East;VALUE=DATE-TIME:20231130T200000
DTSTAMP;VALUE=DATE-TIME:20260424T215724Z
UID:4a82c557b4cb4db2932a46ecd2418e64@www.montesclaros.mg.leg.br
CREATED;VALUE=DATE-TIME:20231122T131106Z
DESCRIPTION:Autor: Vereador Edmilson Bispo 
LAST-MODIFIED;VALUE=DATE-TIME:20231130T140701Z
URL:https://www.montesclaros.mg.leg.br/institucional/eventos/sessao-especi
 al-para-celebrar-o-dia-municipal-de-combate-ao-feminicidio
END:VEVENT
BEGIN:VTIMEZONE
TZID:Brazil/East
X-LIC-LOCATION:Brazil/East
BEGIN:DAYLIGHT
DTSTART;VALUE=DATE-TIME:20231015T010000
TZNAME:BRST
TZOFFSETFROM:-0300
TZOFFSETTO:-0200
END:DAYLIGHT
END:VTIMEZONE
END:VCALENDAR
