BEGIN:VCALENDAR
VERSION:2.0
PRODID:-//Plone.org//NONSGML plone.app.event//EN
X-WR-TIMEZONE:Brazil/East
BEGIN:VEVENT
SUMMARY:Sessão Especial: Homenagem ao pastor Cleipison Alves da Silva
DTSTART;TZID=Brazil/East;VALUE=DATE-TIME:20230505T190000
DTEND;TZID=Brazil/East;VALUE=DATE-TIME:20230505T200000
DTSTAMP;VALUE=DATE-TIME:20260425T134525Z
UID:937b03733a804f38a2502ac525924c04@www.montesclaros.mg.leg.br
CREATED;VALUE=DATE-TIME:20230427T113021Z
DESCRIPTION:Autor: Vereador Edmilson Bispo
LAST-MODIFIED;VALUE=DATE-TIME:20230427T113025Z
URL:https://www.montesclaros.mg.leg.br/institucional/eventos/sessao-especi
 al-homenagem-ao-pastor-cleipison-alves-da-silva
END:VEVENT
BEGIN:VTIMEZONE
TZID:Brazil/East
X-LIC-LOCATION:Brazil/East
BEGIN:STANDARD
DTSTART;VALUE=DATE-TIME:20230225T230000
TZNAME:BRT
TZOFFSETFROM:-0200
TZOFFSETTO:-0300
END:STANDARD
END:VTIMEZONE
END:VCALENDAR
