BEGIN:VCALENDAR
VERSION:2.0
PRODID:-//Plone.org//NONSGML plone.app.event//EN
X-WR-TIMEZONE:Brazil/East
BEGIN:VEVENT
SUMMARY:Sessão Especial de Homenagem para entrega da Placa de Prata “Al
 feres José Lopes de Carvalho” ao Curso de Direito da UNIMONTES e ao Cen
 tro Acadêmico Cyro dos Anjos (CACYRO). 
DTSTART;TZID=Brazil/East;VALUE=DATE-TIME:20250924T190000
DTEND;TZID=Brazil/East;VALUE=DATE-TIME:20250924T200000
DTSTAMP;VALUE=DATE-TIME:20260419T134700Z
UID:7d3375855bce4b7080437c7536ecd08d@www.montesclaros.mg.leg.br
CREATED;VALUE=DATE-TIME:20250912T121319Z
DESCRIPTION:Vereadora Professora Iara Pimentel
LAST-MODIFIED;VALUE=DATE-TIME:20250922T110953Z
LOCATION:Plenário
URL:https://www.montesclaros.mg.leg.br/institucional/eventos/sessao-especi
 al-de-homenagem-para-entrega-da-placa-de-prata-201calferes-jose-lopes-de-c
 arvalho201d-ao-curso-de-direito-da-unimontes-em-comemoracao-aos-60-anos-do
 -curso-de-direito-1
END:VEVENT
BEGIN:VTIMEZONE
TZID:Brazil/East
X-LIC-LOCATION:Brazil/East
BEGIN:STANDARD
DTSTART;VALUE=DATE-TIME:20250215T230000
TZNAME:BRT
TZOFFSETFROM:-0200
TZOFFSETTO:-0300
END:STANDARD
END:VTIMEZONE
END:VCALENDAR
