BEGIN:VCALENDAR
VERSION:2.0
PRODID:-//Plone.org//NONSGML plone.app.event//EN
X-WR-TIMEZONE:Brazil/East
BEGIN:VEVENT
SUMMARY:Sessão Especial para entrega de Título de Cidadão Honorário ao
  Gustavo Crosara
DTSTART;TZID=Brazil/East;VALUE=DATE-TIME:20231106T190000
DTSTAMP;VALUE=DATE-TIME:20260424T234157Z
UID:ce7142b3cddd4c78995179eba7318c56@www.montesclaros.mg.leg.br
CREATED;VALUE=DATE-TIME:20231025T200510Z
DESCRIPTION:Autor: Claúdio Rodrigues
LAST-MODIFIED;VALUE=DATE-TIME:20231025T203011Z
LOCATION:Plenário 
URL:https://www.montesclaros.mg.leg.br/institucional/eventos/reuniao-para-
 entrega-de-titulo-de-cidadao-honorario-ao-gustavo-crosara
END:VEVENT
BEGIN:VTIMEZONE
TZID:Brazil/East
X-LIC-LOCATION:Brazil/East
BEGIN:DAYLIGHT
DTSTART;VALUE=DATE-TIME:20231015T010000
TZNAME:BRST
TZOFFSETFROM:-0300
TZOFFSETTO:-0200
END:DAYLIGHT
END:VTIMEZONE
END:VCALENDAR
