BEGIN:VCALENDAR
VERSION:2.0
PRODID:-//Plone.org//NONSGML plone.app.event//EN
X-WR-TIMEZONE:Brazil/East
BEGIN:VEVENT
SUMMARY:Reunião Especial para outorga da Medalha de Mérito Humberto Guim
 arães Souto ao Prefeito de Montes Claros\, Guilherme Augusto Guimarães d
 e Oliveira
DTSTART;TZID=Brazil/East;VALUE=DATE-TIME:20251013T190000
DTSTAMP;VALUE=DATE-TIME:20260419T115516Z
UID:b7dfaf41207149cf9c7bdc0912334bc6@www.montesclaros.mg.leg.br
CREATED;VALUE=DATE-TIME:20251008T194055Z
DESCRIPTION:Autoria: Mesa Diretora
LAST-MODIFIED;VALUE=DATE-TIME:20251008T194110Z
LOCATION:Plenário 
URL:https://www.montesclaros.mg.leg.br/institucional/eventos/reuniao-espec
 ial-para-outorga-da-medalha-de-merito-humberto-guimaraes-souto-ao-prefeito
 -de-montes-claros-guilherme-augusto-guimaraes-de-oliveira
END:VEVENT
BEGIN:VTIMEZONE
TZID:Brazil/East
X-LIC-LOCATION:Brazil/East
BEGIN:STANDARD
DTSTART;VALUE=DATE-TIME:20250215T230000
TZNAME:BRT
TZOFFSETFROM:-0200
TZOFFSETTO:-0300
END:STANDARD
END:VTIMEZONE
END:VCALENDAR
