BEGIN:VCALENDAR
VERSION:2.0
PRODID:-//Plone.org//NONSGML plone.app.event//EN
X-WR-TIMEZONE:Brazil/East
BEGIN:VEVENT
SUMMARY:Reunião Especial para entrega do Diploma Yvonne de Oliveira Silve
 ira a professores\, em comemoração ao Dia dos Professores
DTSTART;TZID=Brazil/East;VALUE=DATE-TIME:20251008T190000
DTEND;TZID=Brazil/East;VALUE=DATE-TIME:20251008T200000
DTSTAMP;VALUE=DATE-TIME:20260419T115518Z
UID:611bb0b8f14e4a868aa41a37bc30a912@www.montesclaros.mg.leg.br
CREATED;VALUE=DATE-TIME:20251001T135120Z
DESCRIPTION:Cada vereador homenageia um (a) professor (a) 
LAST-MODIFIED;VALUE=DATE-TIME:20251003T181443Z
URL:https://www.montesclaros.mg.leg.br/institucional/eventos/reuniao-espec
 ial-ocasiao-em-que-cada-vereador-a-prestara-homenagem-a-um-a-professor-a-p
 rocedendo-a-entrega-do-diploma-yvonne-de-oliveira-silveira-em-comemoracao-
 ao-dia-dos-professores
END:VEVENT
BEGIN:VTIMEZONE
TZID:Brazil/East
X-LIC-LOCATION:Brazil/East
BEGIN:STANDARD
DTSTART;VALUE=DATE-TIME:20250215T230000
TZNAME:BRT
TZOFFSETFROM:-0200
TZOFFSETTO:-0300
END:STANDARD
END:VTIMEZONE
END:VCALENDAR
