BEGIN:VCALENDAR
VERSION:2.0
PRODID:-//Plone.org//NONSGML plone.app.event//EN
X-WR-TIMEZONE:Brazil/East
BEGIN:VEVENT
SUMMARY:Prestação de Contas da Secretaria de Saúde do 1º Quadrimestre 
 do Exercício de 2025
DTSTART;TZID=Brazil/East;VALUE=DATE-TIME:20250528T090000
DTEND;TZID=Brazil/East;VALUE=DATE-TIME:20250528T100000
DTSTAMP;VALUE=DATE-TIME:20260420T063943Z
UID:921aff932e1748b7b16f316f103f41ed@www.montesclaros.mg.leg.br
CREATED;VALUE=DATE-TIME:20250512T132956Z
LAST-MODIFIED;VALUE=DATE-TIME:20250527T173422Z
URL:https://www.montesclaros.mg.leg.br/institucional/eventos/prestacao-de-
 contas-da-secretaria-de-saude-do-1o-quadrimestre-do-exercicio-de-2025
END:VEVENT
BEGIN:VTIMEZONE
TZID:Brazil/East
X-LIC-LOCATION:Brazil/East
BEGIN:STANDARD
DTSTART;VALUE=DATE-TIME:20250215T230000
TZNAME:BRT
TZOFFSETFROM:-0200
TZOFFSETTO:-0300
END:STANDARD
END:VTIMEZONE
END:VCALENDAR
