BEGIN:VCALENDAR
VERSION:2.0
PRODID:-//Plone.org//NONSGML plone.app.event//EN
X-WR-TIMEZONE:Brazil/East
BEGIN:VEVENT
SUMMARY:Palestra sobre a Reforma Tributária ministrada pelo Deputado Fede
 ral Reginaldo Lopes.
DTSTART;TZID=Brazil/East;VALUE=DATE-TIME:20251021T190000
DTEND;TZID=Brazil/East;VALUE=DATE-TIME:20251021T200000
DTSTAMP;VALUE=DATE-TIME:20260419T115518Z
UID:3ab0eaf5435e4a12af34d3826009b449@www.montesclaros.mg.leg.br
CREATED;VALUE=DATE-TIME:20251020T130734Z
DESCRIPTION:Vereador Eduardo Preto 
LAST-MODIFIED;VALUE=DATE-TIME:20251020T130739Z
URL:https://www.montesclaros.mg.leg.br/institucional/eventos/palestra-sobr
 e-a-reforma-tributaria-ministrada-pelo-deputado-federal-reginaldo-lopes
END:VEVENT
BEGIN:VTIMEZONE
TZID:Brazil/East
X-LIC-LOCATION:Brazil/East
BEGIN:DAYLIGHT
DTSTART;VALUE=DATE-TIME:20251019T010000
TZNAME:BRST
TZOFFSETFROM:-0300
TZOFFSETTO:-0200
END:DAYLIGHT
END:VTIMEZONE
END:VCALENDAR
