BEGIN:VCALENDAR
VERSION:2.0
PRODID:-//Plone.org//NONSGML plone.app.event//EN
X-WR-TIMEZONE:Brazil/East
BEGIN:VEVENT
SUMMARY: Oficina do Parlamento Jovem
DTSTART;TZID=Brazil/East;VALUE=DATE-TIME:20230620T140000
DTSTAMP;VALUE=DATE-TIME:20260425T112935Z
UID:d578eec7454b455291bda0976c0641a3@www.montesclaros.mg.leg.br
CREATED;VALUE=DATE-TIME:20230616T182325Z
DESCRIPTION:Escola do Legislativo
LAST-MODIFIED;VALUE=DATE-TIME:20230616T182418Z
LOCATION:Plenarinho
URL:https://www.montesclaros.mg.leg.br/institucional/eventos/oficina-do-pa
 rlamento-jovem
END:VEVENT
BEGIN:VTIMEZONE
TZID:Brazil/East
X-LIC-LOCATION:Brazil/East
BEGIN:STANDARD
DTSTART;VALUE=DATE-TIME:20230225T230000
TZNAME:BRT
TZOFFSETFROM:-0200
TZOFFSETTO:-0300
END:STANDARD
END:VTIMEZONE
END:VCALENDAR
