BEGIN:VCALENDAR
VERSION:2.0
PRODID:-//Plone.org//NONSGML plone.app.event//EN
X-WR-TIMEZONE:Brazil/East
BEGIN:VEVENT
SUMMARY:Medalha de Mérito Esportivo "Antônio Manoel Dias” à Anny Gabr
 ielly Pereira Santos.
DTSTART;TZID=Brazil/East;VALUE=DATE-TIME:20231213T190000
DTEND;TZID=Brazil/East;VALUE=DATE-TIME:20231213T200000
DTSTAMP;VALUE=DATE-TIME:20260424T134220Z
UID:056ef7abed644653a83956c757add8fa@www.montesclaros.mg.leg.br
CREATED;VALUE=DATE-TIME:20231130T114549Z
DESCRIPTION:Autor: Vereador Wilton Dias 
LAST-MODIFIED;VALUE=DATE-TIME:20231208T160401Z
URL:https://www.montesclaros.mg.leg.br/institucional/eventos/medalha-de-me
 rito-esportivo-antonio-manoel-dias201d-a-anny-gabrielly-pereira-santos
END:VEVENT
BEGIN:VTIMEZONE
TZID:Brazil/East
X-LIC-LOCATION:Brazil/East
BEGIN:DAYLIGHT
DTSTART;VALUE=DATE-TIME:20231015T010000
TZNAME:BRST
TZOFFSETFROM:-0300
TZOFFSETTO:-0200
END:DAYLIGHT
END:VTIMEZONE
END:VCALENDAR
