BEGIN:VCALENDAR
VERSION:2.0
PRODID:-//Plone.org//NONSGML plone.app.event//EN
X-WR-TIMEZONE:Brazil/East
BEGIN:VEVENT
SUMMARY:Inauguração da Galeria dos Ex-presidentes
DTSTART;TZID=Brazil/East;VALUE=DATE-TIME:20240502T090000
DTEND;TZID=Brazil/East;VALUE=DATE-TIME:20240502T100000
DTSTAMP;VALUE=DATE-TIME:20260424T070108Z
UID:7f693dfd0be04fbd99eb9d14ac8439d3@www.montesclaros.mg.leg.br
CREATED;VALUE=DATE-TIME:20240424T132737Z
LAST-MODIFIED;VALUE=DATE-TIME:20240424T132741Z
URL:https://www.montesclaros.mg.leg.br/institucional/eventos/inauguracao-d
 a-galeria-dos-ex-presidentes
END:VEVENT
BEGIN:VTIMEZONE
TZID:Brazil/East
X-LIC-LOCATION:Brazil/East
BEGIN:STANDARD
DTSTART;VALUE=DATE-TIME:20240217T230000
TZNAME:BRT
TZOFFSETFROM:-0200
TZOFFSETTO:-0300
END:STANDARD
END:VTIMEZONE
END:VCALENDAR
