BEGIN:VCALENDAR
VERSION:2.0
PRODID:-//Plone.org//NONSGML plone.app.event//EN
X-WR-TIMEZONE:Brazil/East
BEGIN:VEVENT
SUMMARY:Homenagem: Título de Cidadão Benemérito a Juliano Rocha Caldeir
 a
DTSTART;TZID=Brazil/East;VALUE=DATE-TIME:20230629T193000
DTEND;TZID=Brazil/East;VALUE=DATE-TIME:20230629T203000
DTSTAMP;VALUE=DATE-TIME:20260425T115408Z
UID:f8f3065621d34af5bb443fa13caea687@www.montesclaros.mg.leg.br
CREATED;VALUE=DATE-TIME:20230526T115418Z
DESCRIPTION:Autor: Vereador Igor Dias
LAST-MODIFIED;VALUE=DATE-TIME:20230526T115422Z
URL:https://www.montesclaros.mg.leg.br/institucional/eventos/homenagem-tit
 ulo-de-cidadao-benemerito-a-juliano-rocha-caldeira
END:VEVENT
BEGIN:VTIMEZONE
TZID:Brazil/East
X-LIC-LOCATION:Brazil/East
BEGIN:STANDARD
DTSTART;VALUE=DATE-TIME:20230225T230000
TZNAME:BRT
TZOFFSETFROM:-0200
TZOFFSETTO:-0300
END:STANDARD
END:VTIMEZONE
END:VCALENDAR
