BEGIN:VCALENDAR
VERSION:2.0
PRODID:-//Plone.org//NONSGML plone.app.event//EN
X-WR-TIMEZONE:Brazil/East
BEGIN:VEVENT
SUMMARY:Homenagem: Título de Cidadã Benemérita à Celeste Leite Fróes
DTSTART;TZID=Brazil/East;VALUE=DATE-TIME:20230615T190000
DTEND;TZID=Brazil/East;VALUE=DATE-TIME:20230615T200000
DTSTAMP;VALUE=DATE-TIME:20260425T134335Z
UID:bb03f2684dc54b8d95a7f13af0cf6b1d@www.montesclaros.mg.leg.br
CREATED;VALUE=DATE-TIME:20230526T114932Z
DESCRIPTION:Autora: Vereadora Graça da Casa do Motor
LAST-MODIFIED;VALUE=DATE-TIME:20230526T114936Z
URL:https://www.montesclaros.mg.leg.br/institucional/eventos/homenagem-tit
 ulo-de-cidada-benemerita-a-celeste-leite-froes
END:VEVENT
BEGIN:VTIMEZONE
TZID:Brazil/East
X-LIC-LOCATION:Brazil/East
BEGIN:STANDARD
DTSTART;VALUE=DATE-TIME:20230225T230000
TZNAME:BRT
TZOFFSETFROM:-0200
TZOFFSETTO:-0300
END:STANDARD
END:VTIMEZONE
END:VCALENDAR
