BEGIN:VCALENDAR
VERSION:2.0
PRODID:-//Plone.org//NONSGML plone.app.event//EN
X-WR-TIMEZONE:Brazil/East
BEGIN:VEVENT
SUMMARY:Homenagem em comemoração ao aniversário de um ano do Conselho N
 acional dos Profissionais da Beleza em Montes Claros
DTSTART;TZID=Brazil/East;VALUE=DATE-TIME:20240508T190000
DTSTAMP;VALUE=DATE-TIME:20260424T054147Z
UID:266b65105f5844e28d51fb8eb57de4ee@www.montesclaros.mg.leg.br
CREATED;VALUE=DATE-TIME:20240418T122953Z
DESCRIPTION:Autor: Vereador Stalin Cordeiro
LAST-MODIFIED;VALUE=DATE-TIME:20240418T123044Z
LOCATION:Plenário
URL:https://www.montesclaros.mg.leg.br/institucional/eventos/homenagem-em-
 comemoracao-ao-aniversario-de-um-ano-do-conselho-nacional-dos-profissionai
 s-da-beleza-em-montes-claros
END:VEVENT
BEGIN:VTIMEZONE
TZID:Brazil/East
X-LIC-LOCATION:Brazil/East
BEGIN:STANDARD
DTSTART;VALUE=DATE-TIME:20240217T230000
TZNAME:BRT
TZOFFSETFROM:-0200
TZOFFSETTO:-0300
END:STANDARD
END:VTIMEZONE
END:VCALENDAR
