BEGIN:VCALENDAR
VERSION:2.0
PRODID:-//Plone.org//NONSGML plone.app.event//EN
X-WR-TIMEZONE:Brazil/East
BEGIN:VEVENT
SUMMARY:Homenagem aos defensores públicos: Cláudio Pimenta e Camila Umpi
 erre
DTSTART;TZID=Brazil/East;VALUE=DATE-TIME:20250507T190000
DTEND;TZID=Brazil/East;VALUE=DATE-TIME:20250507T200000
DTSTAMP;VALUE=DATE-TIME:20260420T063535Z
UID:c4874c92284d42b0a595a7a1e4c85529@www.montesclaros.mg.leg.br
CREATED;VALUE=DATE-TIME:20250505T130706Z
DESCRIPTION:Autores: Junior Martins e Cláudio Rodrigues
LAST-MODIFIED;VALUE=DATE-TIME:20250505T130711Z
URL:https://www.montesclaros.mg.leg.br/institucional/eventos/homenagem-aos
 -defensores-publicos-claudio-pimenta-e-camila-umpierre
END:VEVENT
BEGIN:VTIMEZONE
TZID:Brazil/East
X-LIC-LOCATION:Brazil/East
BEGIN:STANDARD
DTSTART;VALUE=DATE-TIME:20250215T230000
TZNAME:BRT
TZOFFSETFROM:-0200
TZOFFSETTO:-0300
END:STANDARD
END:VTIMEZONE
END:VCALENDAR
