BEGIN:VCALENDAR
VERSION:2.0
PRODID:-//Plone.org//NONSGML plone.app.event//EN
X-WR-TIMEZONE:Brazil/East
BEGIN:VEVENT
SUMMARY:Homenagem aos 75 anos da EMATER e os 62 anos do Escritório em Mon
 tes Claros
DTSTART;TZID=Brazil/East;VALUE=DATE-TIME:20231108T190000
DTEND;TZID=Brazil/East;VALUE=DATE-TIME:20231108T210000
DTSTAMP;VALUE=DATE-TIME:20260424T165801Z
UID:e94a6d0bc4c345ce9d95accb5c39e60c@www.montesclaros.mg.leg.br
CREATED;VALUE=DATE-TIME:20231025T202031Z
DESCRIPTION:Autor: Claúdio Rodrigues 
LAST-MODIFIED;VALUE=DATE-TIME:20231108T222049Z
LOCATION:Plenário 
URL:https://www.montesclaros.mg.leg.br/institucional/eventos/homenagem-aos
 -75-anos-da-emater-e-os-62-anos-do-escritorio-em-montes-claros
END:VEVENT
BEGIN:VTIMEZONE
TZID:Brazil/East
X-LIC-LOCATION:Brazil/East
BEGIN:DAYLIGHT
DTSTART;VALUE=DATE-TIME:20231015T010000
TZNAME:BRST
TZOFFSETFROM:-0300
TZOFFSETTO:-0200
END:DAYLIGHT
END:VTIMEZONE
END:VCALENDAR
