BEGIN:VCALENDAR
VERSION:2.0
PRODID:-//Plone.org//NONSGML plone.app.event//EN
X-WR-TIMEZONE:Brazil/East
BEGIN:VEVENT
SUMMARY:Homenagem aos 60 anos do curso de Geografia da Unimontes
DTSTART;TZID=Brazil/East;VALUE=DATE-TIME:20240503T190000
DTEND;TZID=Brazil/East;VALUE=DATE-TIME:20240503T200000
DTSTAMP;VALUE=DATE-TIME:20260424T052936Z
UID:e37cc59393894c829224f48c9cdffbcb@www.montesclaros.mg.leg.br
CREATED;VALUE=DATE-TIME:20240411T125454Z
DESCRIPTION:Autoria: Vereadora Professora Iara Pimentel 
LAST-MODIFIED;VALUE=DATE-TIME:20240411T125500Z
URL:https://www.montesclaros.mg.leg.br/institucional/eventos/homenagem-aos
 -60-anos-do-curso-de-geografia-da-unimontes
END:VEVENT
BEGIN:VTIMEZONE
TZID:Brazil/East
X-LIC-LOCATION:Brazil/East
BEGIN:STANDARD
DTSTART;VALUE=DATE-TIME:20240217T230000
TZNAME:BRT
TZOFFSETFROM:-0200
TZOFFSETTO:-0300
END:STANDARD
END:VTIMEZONE
END:VCALENDAR
