BEGIN:VCALENDAR
VERSION:2.0
PRODID:-//Plone.org//NONSGML plone.app.event//EN
X-WR-TIMEZONE:Brazil/East
BEGIN:VEVENT
SUMMARY:Homenagem aos 120 anos do Asilo São Vicente de Paulo
DTSTART;TZID=Brazil/East;VALUE=DATE-TIME:20240515T190000
DTEND;TZID=Brazil/East;VALUE=DATE-TIME:20240515T200000
DTSTAMP;VALUE=DATE-TIME:20260424T072903Z
UID:07dec311146f4bac827ce3abc092890d@www.montesclaros.mg.leg.br
CREATED;VALUE=DATE-TIME:20240411T130125Z
DESCRIPTION:Autoria: Vereador Junior Martins 
LAST-MODIFIED;VALUE=DATE-TIME:20240411T130129Z
URL:https://www.montesclaros.mg.leg.br/institucional/eventos/homenagem-aos
 -120-anos-do-asilo-sao-vicente-de-paulo
END:VEVENT
BEGIN:VTIMEZONE
TZID:Brazil/East
X-LIC-LOCATION:Brazil/East
BEGIN:STANDARD
DTSTART;VALUE=DATE-TIME:20240217T230000
TZNAME:BRT
TZOFFSETFROM:-0200
TZOFFSETTO:-0300
END:STANDARD
END:VTIMEZONE
END:VCALENDAR
