BEGIN:VCALENDAR
VERSION:2.0
PRODID:-//Plone.org//NONSGML plone.app.event//EN
X-WR-TIMEZONE:Brazil/East
BEGIN:VEVENT
SUMMARY:Homenagem aos 10 anos de fundação do Conselho de Segurança Púb
 lica Escolar
DTSTART;TZID=Brazil/East;VALUE=DATE-TIME:20231127T190000
DTEND;TZID=Brazil/East;VALUE=DATE-TIME:20231127T200000
DTSTAMP;VALUE=DATE-TIME:20260424T183746Z
UID:bbc267c6aec14945bba8569ebd969ef6@www.montesclaros.mg.leg.br
CREATED;VALUE=DATE-TIME:20231026T130230Z
DESCRIPTION:Autor: Vereadora Professora Iara Pimentel 
LAST-MODIFIED;VALUE=DATE-TIME:20231026T130234Z
URL:https://www.montesclaros.mg.leg.br/institucional/eventos/homenagem-aos
 -10-anos-de-fundacao-do-conselho-de-seguranca-publica-escolar
END:VEVENT
BEGIN:VTIMEZONE
TZID:Brazil/East
X-LIC-LOCATION:Brazil/East
BEGIN:DAYLIGHT
DTSTART;VALUE=DATE-TIME:20231015T010000
TZNAME:BRST
TZOFFSETFROM:-0300
TZOFFSETTO:-0200
END:DAYLIGHT
END:VTIMEZONE
END:VCALENDAR
