BEGIN:VCALENDAR
VERSION:2.0
PRODID:-//Plone.org//NONSGML plone.app.event//EN
X-WR-TIMEZONE:Brazil/East
BEGIN:VEVENT
SUMMARY:Homenagem ao projeto Trilha da Leitura e entrega de Título de Cid
 adã Honorária á professora Ellen Cassia
DTSTART;TZID=Brazil/East;VALUE=DATE-TIME:20231214T190000
DTSTAMP;VALUE=DATE-TIME:20260424T134147Z
UID:40b1660cf97a4cfc82ee9b5e945d5a6c@www.montesclaros.mg.leg.br
CREATED;VALUE=DATE-TIME:20231130T114800Z
DESCRIPTION:Autores: Vereador Cláudio Rodrigues e Marlus do Independênci
 a 
LAST-MODIFIED;VALUE=DATE-TIME:20231208T160342Z
URL:https://www.montesclaros.mg.leg.br/institucional/eventos/homenagem-ao-
 projeto-trilha-da-leitura
END:VEVENT
BEGIN:VTIMEZONE
TZID:Brazil/East
X-LIC-LOCATION:Brazil/East
BEGIN:DAYLIGHT
DTSTART;VALUE=DATE-TIME:20231015T010000
TZNAME:BRST
TZOFFSETFROM:-0300
TZOFFSETTO:-0200
END:DAYLIGHT
END:VTIMEZONE
END:VCALENDAR
