BEGIN:VCALENDAR
VERSION:2.0
PRODID:-//Plone.org//NONSGML plone.app.event//EN
X-WR-TIMEZONE:Brazil/East
BEGIN:VEVENT
SUMMARY:Homenagem ao Projeto Escolinha de Futsal XV de Novembro do Maracan
 ã.
DTSTART;TZID=Brazil/East;VALUE=DATE-TIME:20231107T190000
DTSTAMP;VALUE=DATE-TIME:20260424T165801Z
UID:87d79e7e534e4f52930199698a495ff5@www.montesclaros.mg.leg.br
CREATED;VALUE=DATE-TIME:20231106T154150Z
DESCRIPTION:Igor Dias
LAST-MODIFIED;VALUE=DATE-TIME:20231106T154156Z
URL:https://www.montesclaros.mg.leg.br/institucional/eventos/homenagem-ao-
 projeto-escolinha-de-futsal-xv-de-novembro-do-maracana-1
END:VEVENT
BEGIN:VTIMEZONE
TZID:Brazil/East
X-LIC-LOCATION:Brazil/East
BEGIN:DAYLIGHT
DTSTART;VALUE=DATE-TIME:20231015T010000
TZNAME:BRST
TZOFFSETFROM:-0300
TZOFFSETTO:-0200
END:DAYLIGHT
END:VTIMEZONE
END:VCALENDAR
