BEGIN:VCALENDAR
VERSION:2.0
PRODID:-//Plone.org//NONSGML plone.app.event//EN
X-WR-TIMEZONE:Brazil/East
BEGIN:VEVENT
SUMMARY:Homenagem ao comandante do Exército Henrique de Queiroz Henriques
DTSTART;TZID=Brazil/East;VALUE=DATE-TIME:20231020T190000
DTEND;TZID=Brazil/East;VALUE=DATE-TIME:20231020T200000
DTSTAMP;VALUE=DATE-TIME:20260425T011535Z
UID:19ec770063b84f57bab1537ba8d018d8@www.montesclaros.mg.leg.br
CREATED;VALUE=DATE-TIME:20231006T144732Z
DESCRIPTION:Autor: Elair Gomes 
LAST-MODIFIED;VALUE=DATE-TIME:20231011T143449Z
URL:https://www.montesclaros.mg.leg.br/institucional/eventos/homenagem-ao-
 comandante-do-exercito-henrique-de-queiroz-henriques
END:VEVENT
BEGIN:VTIMEZONE
TZID:Brazil/East
X-LIC-LOCATION:Brazil/East
BEGIN:DAYLIGHT
DTSTART;VALUE=DATE-TIME:20231015T010000
TZNAME:BRST
TZOFFSETFROM:-0300
TZOFFSETTO:-0200
END:DAYLIGHT
END:VTIMEZONE
END:VCALENDAR
