BEGIN:VCALENDAR
VERSION:2.0
PRODID:-//Plone.org//NONSGML plone.app.event//EN
X-WR-TIMEZONE:Brazil/East
BEGIN:VEVENT
SUMMARY:Entrega de Título de Cidadão Honorário Moisés Dias de Carvalho
  Júnior
DTSTART;TZID=Brazil/East;VALUE=DATE-TIME:20240516T190000
DTEND;TZID=Brazil/East;VALUE=DATE-TIME:20240516T200000
DTSTAMP;VALUE=DATE-TIME:20260424T070104Z
UID:919ebd35ef194b428d8982da7f526747@www.montesclaros.mg.leg.br
CREATED;VALUE=DATE-TIME:20240411T130706Z
DESCRIPTION:Autoria: Vereador Soter Magno
LAST-MODIFIED;VALUE=DATE-TIME:20240411T130711Z
URL:https://www.montesclaros.mg.leg.br/institucional/eventos/entrega-de-ti
 tulo-de-cidadao-honorario-moises-dias-de-carvalho-junior
END:VEVENT
BEGIN:VTIMEZONE
TZID:Brazil/East
X-LIC-LOCATION:Brazil/East
BEGIN:STANDARD
DTSTART;VALUE=DATE-TIME:20240217T230000
TZNAME:BRT
TZOFFSETFROM:-0200
TZOFFSETTO:-0300
END:STANDARD
END:VTIMEZONE
END:VCALENDAR
