BEGIN:VCALENDAR
VERSION:2.0
PRODID:-//Plone.org//NONSGML plone.app.event//EN
X-WR-TIMEZONE:Brazil/East
BEGIN:VEVENT
SUMMARY:Entrega de Título de Cidadão Honorário a Nelson Fonseca Leite.
DTSTART;TZID=Brazil/East;VALUE=DATE-TIME:20250823T090000
DTEND;TZID=Brazil/East;VALUE=DATE-TIME:20250823T100000
DTSTAMP;VALUE=DATE-TIME:20260419T152206Z
UID:92b5d17eef464a9a94efb2398e82a339@www.montesclaros.mg.leg.br
CREATED;VALUE=DATE-TIME:20250728T131258Z
DESCRIPTION:Autor: Vereador Eduardo Preto
LAST-MODIFIED;VALUE=DATE-TIME:20250728T131305Z
URL:https://www.montesclaros.mg.leg.br/institucional/eventos/entrega-de-ti
 tulo-de-cidadao-honorario-a-nelson-fonseca-leite
END:VEVENT
BEGIN:VTIMEZONE
TZID:Brazil/East
X-LIC-LOCATION:Brazil/East
BEGIN:STANDARD
DTSTART;VALUE=DATE-TIME:20250215T230000
TZNAME:BRT
TZOFFSETFROM:-0200
TZOFFSETTO:-0300
END:STANDARD
END:VTIMEZONE
END:VCALENDAR
