BEGIN:VCALENDAR
VERSION:2.0
PRODID:-//Plone.org//NONSGML plone.app.event//EN
X-WR-TIMEZONE:Brazil/East
BEGIN:VEVENT
SUMMARY:Entrega de Título de Cidadão Benemérito de Montes Claros ao Pro
 fessor Juvenal Caldeira Durães
DTSTART;TZID=Brazil/East;VALUE=DATE-TIME:20250411T190000
DTEND;TZID=Brazil/East;VALUE=DATE-TIME:20250411T200000
DTSTAMP;VALUE=DATE-TIME:20260420T083601Z
UID:a09264e3af704e8b96c1b467bd6b3b64@www.montesclaros.mg.leg.br
CREATED;VALUE=DATE-TIME:20250407T114259Z
DESCRIPTION:Autora: Vereadora Maria Helena Lopes 
LAST-MODIFIED;VALUE=DATE-TIME:20250407T114305Z
URL:https://www.montesclaros.mg.leg.br/institucional/eventos/entrega-de-ti
 tulo-de-cidadao-benemerito-de-montes-claros-ao-professor-juvenal-caldeira-
 duraes
END:VEVENT
BEGIN:VTIMEZONE
TZID:Brazil/East
X-LIC-LOCATION:Brazil/East
BEGIN:STANDARD
DTSTART;VALUE=DATE-TIME:20250215T230000
TZNAME:BRT
TZOFFSETFROM:-0200
TZOFFSETTO:-0300
END:STANDARD
END:VTIMEZONE
END:VCALENDAR
