BEGIN:VCALENDAR
VERSION:2.0
PRODID:-//Plone.org//NONSGML plone.app.event//EN
X-WR-TIMEZONE:Brazil/East
BEGIN:VEVENT
SUMMARY:Entrega de Título de Cidadão Benemérito ao vice-presidente da S
 ociedade Rural de Montes Claros\, José Henrique de Carvalho Veloso
DTSTART;TZID=Brazil/East;VALUE=DATE-TIME:20250519T190000
DTEND;TZID=Brazil/East;VALUE=DATE-TIME:20250519T200000
DTSTAMP;VALUE=DATE-TIME:20260420T063943Z
UID:8f11d3a379164617979adaf2f5629eba@www.montesclaros.mg.leg.br
CREATED;VALUE=DATE-TIME:20250512T125514Z
DESCRIPTION:Autora: Vereadora Graça da Casa do Motor
LAST-MODIFIED;VALUE=DATE-TIME:20250512T125526Z
URL:https://www.montesclaros.mg.leg.br/institucional/eventos/entrega-de-ti
 tulo-de-cidadao-benemerito-ao-vice-presidente-da-sociedade-rural-de-montes
 -claros-jose-henrique-de-carvalho-veloso
END:VEVENT
BEGIN:VTIMEZONE
TZID:Brazil/East
X-LIC-LOCATION:Brazil/East
BEGIN:STANDARD
DTSTART;VALUE=DATE-TIME:20250215T230000
TZNAME:BRT
TZOFFSETFROM:-0200
TZOFFSETTO:-0300
END:STANDARD
END:VTIMEZONE
END:VCALENDAR
