BEGIN:VCALENDAR
VERSION:2.0
PRODID:-//Plone.org//NONSGML plone.app.event//EN
X-WR-TIMEZONE:Brazil/East
BEGIN:VEVENT
SUMMARY:Entrega de Título de Cidadão Benemérito ao advogado e empresár
 io Fellipe André Souza Freitas. 
DTSTART;TZID=Brazil/East;VALUE=DATE-TIME:20251001T190000
DTEND;TZID=Brazil/East;VALUE=DATE-TIME:20251001T200000
DTSTAMP;VALUE=DATE-TIME:20260419T115017Z
UID:cf1ef149a3ba422dab25a98e9d649162@www.montesclaros.mg.leg.br
CREATED;VALUE=DATE-TIME:20250926T135946Z
DESCRIPTION:Autor: Vereador PC Landim
LAST-MODIFIED;VALUE=DATE-TIME:20250926T135957Z
URL:https://www.montesclaros.mg.leg.br/institucional/eventos/entrega-de-ti
 tulo-de-cidadao-benemerito-ao-advogado-e-empresario-fellipe-andre-souza-fr
 eitas
END:VEVENT
BEGIN:VTIMEZONE
TZID:Brazil/East
X-LIC-LOCATION:Brazil/East
BEGIN:STANDARD
DTSTART;VALUE=DATE-TIME:20250215T230000
TZNAME:BRT
TZOFFSETFROM:-0200
TZOFFSETTO:-0300
END:STANDARD
END:VTIMEZONE
END:VCALENDAR
