BEGIN:VCALENDAR
VERSION:2.0
PRODID:-//Plone.org//NONSGML plone.app.event//EN
X-WR-TIMEZONE:Brazil/East
BEGIN:VEVENT
SUMMARY:Entrega de Título de Cidadã Honorária de Montes Claros a empres
 aria Zenaide Maria Zampieron
DTSTART;TZID=Brazil/East;VALUE=DATE-TIME:20250709T190000
DTEND;TZID=Brazil/East;VALUE=DATE-TIME:20250709T200000
DTSTAMP;VALUE=DATE-TIME:20260419T171118Z
UID:5fcab187c31a43869302531a0a0dff73@www.montesclaros.mg.leg.br
CREATED;VALUE=DATE-TIME:20250701T165406Z
DESCRIPTION:Vereador Cláudio Rodrigues 
LAST-MODIFIED;VALUE=DATE-TIME:20250708T110607Z
LOCATION:Plenário 
URL:https://www.montesclaros.mg.leg.br/institucional/eventos/entrega-de-ti
 tulo-de-cidada-hononaria-de-montes-claros-a-empresaria-zenaide-maria-zampi
 eron
END:VEVENT
BEGIN:VTIMEZONE
TZID:Brazil/East
X-LIC-LOCATION:Brazil/East
BEGIN:STANDARD
DTSTART;VALUE=DATE-TIME:20250215T230000
TZNAME:BRT
TZOFFSETFROM:-0200
TZOFFSETTO:-0300
END:STANDARD
END:VTIMEZONE
END:VCALENDAR
