BEGIN:VCALENDAR
VERSION:2.0
PRODID:-//Plone.org//NONSGML plone.app.event//EN
X-WR-TIMEZONE:Brazil/East
BEGIN:VEVENT
SUMMARY:Audiência Pública tendo como pauta A grave situação enfrentada
  pela população carcerária atualmente custodiada no Presídio Regional 
 desta cidade – especialmente no Pavilhão H\, ocupado pela comunidade LG
 BTQIAPN+.
DTSTART;TZID=Brazil/East;VALUE=DATE-TIME:20251001T090000
DTEND;TZID=Brazil/East;VALUE=DATE-TIME:20251001T100000
DTSTAMP;VALUE=DATE-TIME:20260419T115516Z
UID:931f9025008440daa485811370f0ed12@www.montesclaros.mg.leg.br
CREATED;VALUE=DATE-TIME:20251001T135312Z
DESCRIPTION:Vereadora Iara Pimentel
LAST-MODIFIED;VALUE=DATE-TIME:20251001T135319Z
URL:https://www.montesclaros.mg.leg.br/institucional/eventos/audiencia-pub
 lica-tendo-como-pauta-a-grave-situacao-enfrentada-pela-populacao-carcerari
 a-atualmente-custodiada-no-presidio-regional-desta-cidade-2013-especialmen
 te-no-pavilhao-h-ocupado-pela-comunidade-lgbtqiapn
END:VEVENT
BEGIN:VTIMEZONE
TZID:Brazil/East
X-LIC-LOCATION:Brazil/East
BEGIN:STANDARD
DTSTART;VALUE=DATE-TIME:20250215T230000
TZNAME:BRT
TZOFFSETFROM:-0200
TZOFFSETTO:-0300
END:STANDARD
END:VTIMEZONE
END:VCALENDAR
