BEGIN:VCALENDAR
VERSION:2.0
PRODID:-//Plone.org//NONSGML plone.app.event//EN
X-WR-TIMEZONE:Brazil/East
BEGIN:VEVENT
SUMMARY:Audiência Pública sobre o enfrentamento da Fibromialgia
DTSTART;TZID=Brazil/East;VALUE=DATE-TIME:20250424T083000
DTEND;TZID=Brazil/East;VALUE=DATE-TIME:20250424T103000
DTSTAMP;VALUE=DATE-TIME:20260420T083631Z
UID:cdd67af7b3c645d0a5f647eae8ffcb88@www.montesclaros.mg.leg.br
CREATED;VALUE=DATE-TIME:20250402T125335Z
DESCRIPTION:Autor: Ailton do Vilage
LAST-MODIFIED;VALUE=DATE-TIME:20250402T125339Z
URL:https://www.montesclaros.mg.leg.br/institucional/eventos/audiencia-pub
 lica-sobre-o-enfrentamento-da-fibromialgia
END:VEVENT
BEGIN:VTIMEZONE
TZID:Brazil/East
X-LIC-LOCATION:Brazil/East
BEGIN:STANDARD
DTSTART;VALUE=DATE-TIME:20250215T230000
TZNAME:BRT
TZOFFSETFROM:-0200
TZOFFSETTO:-0300
END:STANDARD
END:VTIMEZONE
END:VCALENDAR
