BEGIN:VCALENDAR
VERSION:2.0
PRODID:-//Plone.org//NONSGML plone.app.event//EN
X-WR-TIMEZONE:Brazil/East
BEGIN:VEVENT
SUMMARY:Audiência Pública sobre o manejo populacional de cães e gatos
DTSTART;TZID=Brazil/East;VALUE=DATE-TIME:20250407T190000
DTEND;TZID=Brazil/East;VALUE=DATE-TIME:20250407T210000
DTSTAMP;VALUE=DATE-TIME:20260420T083634Z
UID:a48f54ba9ee046929161aa2ea8e163dd@www.montesclaros.mg.leg.br
CREATED;VALUE=DATE-TIME:20250402T123351Z
DESCRIPTION:Autora: Ceci Protetora
LAST-MODIFIED;VALUE=DATE-TIME:20250402T123427Z
URL:https://www.montesclaros.mg.leg.br/institucional/eventos/audiencia-pub
 lica-sobre-a-necessidade-de-transparencia-efetividade-e-impessoalidade-no-
 manejo-populacional-de-caes-e-gatos
END:VEVENT
BEGIN:VTIMEZONE
TZID:Brazil/East
X-LIC-LOCATION:Brazil/East
BEGIN:STANDARD
DTSTART;VALUE=DATE-TIME:20250215T230000
TZNAME:BRT
TZOFFSETFROM:-0200
TZOFFSETTO:-0300
END:STANDARD
END:VTIMEZONE
END:VCALENDAR
