BEGIN:VCALENDAR
VERSION:2.0
PRODID:-//Plone.org//NONSGML plone.app.event//EN
X-WR-TIMEZONE:Brazil/East
BEGIN:VEVENT
SUMMARY:Audiência Pública sobre a Escola Nhá Chica
DTSTART;TZID=Brazil/East;VALUE=DATE-TIME:20231020T080000
DTEND;TZID=Brazil/East;VALUE=DATE-TIME:20231020T090000
DTSTAMP;VALUE=DATE-TIME:20260425T011535Z
UID:7a0e5ed3475b49c0a4c0fb9952961054@www.montesclaros.mg.leg.br
CREATED;VALUE=DATE-TIME:20231006T144331Z
DESCRIPTION:Autora: Vereadora Iara Pimentel 
LAST-MODIFIED;VALUE=DATE-TIME:20231019T112301Z
URL:https://www.montesclaros.mg.leg.br/institucional/eventos/audiencia-pub
 lica-sobre-a-escola-nha-chica
END:VEVENT
BEGIN:VTIMEZONE
TZID:Brazil/East
X-LIC-LOCATION:Brazil/East
BEGIN:DAYLIGHT
DTSTART;VALUE=DATE-TIME:20231015T010000
TZNAME:BRST
TZOFFSETFROM:-0300
TZOFFSETTO:-0200
END:DAYLIGHT
END:VTIMEZONE
END:VCALENDAR
