BEGIN:VCALENDAR
VERSION:2.0
PRODID:-//Plone.org//NONSGML plone.app.event//EN
X-WR-TIMEZONE:Brazil/East
BEGIN:VEVENT
SUMMARY:Audiência Pública: revitalização da praça Doutor João Alves
DTSTART;TZID=Brazil/East;VALUE=DATE-TIME:20230503T074500
DTEND;TZID=Brazil/East;VALUE=DATE-TIME:20230503T084500
DTSTAMP;VALUE=DATE-TIME:20260425T134555Z
UID:724c58ab8f174cdaa290cecfa28e3fc9@www.montesclaros.mg.leg.br
CREATED;VALUE=DATE-TIME:20230419T121156Z
DESCRIPTION:Vereadora: Julinha da Pastoral
LAST-MODIFIED;VALUE=DATE-TIME:20230419T121209Z
URL:https://www.montesclaros.mg.leg.br/institucional/eventos/audiencia-pub
 lica-revitalizacao-da-praca-doutor-joao-alves
END:VEVENT
BEGIN:VTIMEZONE
TZID:Brazil/East
X-LIC-LOCATION:Brazil/East
BEGIN:STANDARD
DTSTART;VALUE=DATE-TIME:20230225T230000
TZNAME:BRT
TZOFFSETFROM:-0200
TZOFFSETTO:-0300
END:STANDARD
END:VTIMEZONE
END:VCALENDAR
