BEGIN:VCALENDAR
VERSION:2.0
PRODID:-//Plone.org//NONSGML plone.app.event//EN
X-WR-TIMEZONE:Brazil/East
BEGIN:VEVENT
SUMMARY:Audiência Pública:  realização de concurso público para o mun
 icípio de Montes Claros
DTSTART;TZID=Brazil/East;VALUE=DATE-TIME:20230601T080000
DTEND;TZID=Brazil/East;VALUE=DATE-TIME:20230601T090000
DTSTAMP;VALUE=DATE-TIME:20260425T095819Z
UID:d6ed4b73485546c5baefc7b9c3eceff6@www.montesclaros.mg.leg.br
CREATED;VALUE=DATE-TIME:20230524T133649Z
DESCRIPTION:Autora: Vereadora Professora Iara Pimentel 
LAST-MODIFIED;VALUE=DATE-TIME:20230524T133655Z
URL:https://www.montesclaros.mg.leg.br/institucional/eventos/audiencia-pub
 lica-realizacao-de-concurso-publico-para-o-municipio-de-montes-claros
END:VEVENT
BEGIN:VTIMEZONE
TZID:Brazil/East
X-LIC-LOCATION:Brazil/East
BEGIN:STANDARD
DTSTART;VALUE=DATE-TIME:20230225T230000
TZNAME:BRT
TZOFFSETFROM:-0200
TZOFFSETTO:-0300
END:STANDARD
END:VTIMEZONE
END:VCALENDAR
