BEGIN:VCALENDAR
VERSION:2.0
PRODID:-//Plone.org//NONSGML plone.app.event//EN
X-WR-TIMEZONE:Brazil/East
BEGIN:VEVENT
SUMMARY:Audiência Pública para discutir sobre a situação dos cabos sol
 tos nos postes de iluminação na via pública
DTSTART;TZID=Brazil/East;VALUE=DATE-TIME:20231129T080000
DTSTAMP;VALUE=DATE-TIME:20260424T183736Z
UID:ef51ee24ba94412a9d9ce5c48d06bcc3@www.montesclaros.mg.leg.br
ATTENDEE;CN="Guilherme Augusto Guimarães Oliveira, Vice-Prefeito de Monte
 s Claros;";ROLE=REQ-PARTICIPANT:Guilherme Augusto Guimarães Oliveira, Vic
 e-Prefeito de Montes Claros;
ATTENDEE;CN="Otávio Batista Rocha Machado, Procurador-Geral do Município
 ;";ROLE=REQ-PARTICIPANT:Otávio Batista Rocha Machado, Procurador-Geral do
  Município;
ATTENDEE;CN="Paulo César Vicente, Promotor de Justiça da 7ª Promotoria 
 de Meio Ambiente e Urbanismo;";ROLE=REQ-PARTICIPANT:Paulo César Vicente, 
 Promotor de Justiça da 7ª Promotoria de Meio Ambiente e Urbanismo;
ATTENDEE;CN="Felipe Gustavo Gonçalves Caires, Promotor de Justiça, Curad
 or de Defesa do Patrimônio Público e do Consumidor;";ROLE=REQ-PARTICIPAN
 T:Felipe Gustavo Gonçalves Caires, Promotor de Justiça, Curador de Defes
 a do Patrimônio Público e do Consumidor;
ATTENDEE;CN="Willian César Rocha, Secretário Municipal de Finanças;";RO
 LE=REQ-PARTICIPANT:Willian César Rocha, Secretário Municipal de Finança
 s;
ATTENDEE;CN="Vanderlino José da Silveira, Secretário Municipal de Infrae
 strutura e Planejamento Urbano e Presidente da Comissão de Uso e Ocupaç
 ão do Solo do Município de Montes Claros/MG;";ROLE=REQ-PARTICIPANT:Vande
 rlino José da Silveira, Secretário Municipal de Infraestrutura e Planeja
 mento Urbano e Presidente da Comissão de Uso e Ocupação do Solo do Muni
 cípio de Montes Claros/MG;
ATTENDEE;CN="Sóter Magno Carmo, Secretário Municipal de Meio Ambiente e 
 Desenvolvimento Sustentável e Presidente do Conselho Municipal de Defesa 
 e Conservação do Meio Ambiente (CODEMA):";ROLE=REQ-PARTICIPANT:Sóter Ma
 gno Carmo, Secretário Municipal de Meio Ambiente e Desenvolvimento Susten
 tável e Presidente do Conselho Municipal de Defesa e Conservação do Mei
 o Ambiente (CODEMA):
ATTENDEE;CN="Carlos Augusto Alves Alencar Filho, Gerente Regional da CEMIG
 ;";ROLE=REQ-PARTICIPANT:Carlos Augusto Alves Alencar Filho, Gerente Region
 al da CEMIG;
ATTENDEE;CN="Rodrigo Pereira Urculino, Analista de Proteção a Receita da
  CEMIG;";ROLE=REQ-PARTICIPANT:Rodrigo Pereira Urculino, Analista de Prote
 ção a Receita da CEMIG;
ATTENDEE;CN="Gilmar Cardoso, Gerente da CEMIG na cidade de Montes Claros;"
 ;ROLE=REQ-PARTICIPANT:Gilmar Cardoso, Gerente da CEMIG na cidade de Montes
  Claros;
ATTENDEE;CN="Raquel Figueiredo, Técnica de Controle do Sistema Elétrico 
 de Distribuição da CEMIG;";ROLE=REQ-PARTICIPANT:Raquel Figueiredo, Técn
 ica de Controle do Sistema Elétrico de Distribuição da CEMIG;
ATTENDEE;CN="Viviane Sueli, Analista da CEMIG";ROLE=REQ-PARTICIPANT:Vivian
 e Sueli, Analista da CEMIG
CREATED;VALUE=DATE-TIME:20231121T164604Z
DESCRIPTION:Comissão de Meio Ambiente
LAST-MODIFIED;VALUE=DATE-TIME:20231121T164809Z
LOCATION:Plenário 
URL:https://www.montesclaros.mg.leg.br/institucional/eventos/audiencia-pub
 lica-para-discutir-sobre-a-situacao-dos-cabos-soltos-nos-postes-de-ilumina
 cao-na-via-publica
END:VEVENT
BEGIN:VTIMEZONE
TZID:Brazil/East
X-LIC-LOCATION:Brazil/East
BEGIN:DAYLIGHT
DTSTART;VALUE=DATE-TIME:20231015T010000
TZNAME:BRST
TZOFFSETFROM:-0300
TZOFFSETTO:-0200
END:DAYLIGHT
END:VTIMEZONE
END:VCALENDAR
