BEGIN:VCALENDAR
VERSION:2.0
PRODID:-//Plone.org//NONSGML plone.app.event//EN
X-WR-TIMEZONE:Brazil/East
BEGIN:VEVENT
SUMMARY:Audiência Pública para discutir sobre a burocratização e perfu
 ração de poços artesianos
DTSTART;TZID=Brazil/East;VALUE=DATE-TIME:20231109T100000
DTEND;TZID=Brazil/East;VALUE=DATE-TIME:20231109T110000
DTSTAMP;VALUE=DATE-TIME:20260424T234216Z
UID:a8fbf9a715ef4cc2a77f88c60fbec793@www.montesclaros.mg.leg.br
ATTENDEE;CN=CONVIDADOS;ROLE=REQ-PARTICIPANT:CONVIDADOS
ATTENDEE;CN="Secretário de Agricultura - Sr. Osmani Barbosa Neto";ROLE=RE
 Q-PARTICIPANT:Secretário de Agricultura - Sr. Osmani Barbosa Neto
ATTENDEE;CN="Deputado Federal Dr. Marcelo Eduardo Freitas";ROLE=REQ-PARTIC
 IPANT:Deputado Federal Dr. Marcelo Eduardo Freitas
ATTENDEE;CN="Deputado Estadual: Gilberto Wagner Martins Pereira Antunes";R
 OLE=REQ-PARTICIPANT:Deputado Estadual: Gilberto Wagner Martins Pereira Ant
 unes
ATTENDEE;CN="Deputado Estadual: Marilene Alves de Souza";ROLE=REQ-PARTICIP
 ANT:Deputado Estadual: Marilene Alves de Souza
ATTENDEE;CN="Deputado Estadual: Tadeu Martins Leite";ROLE=REQ-PARTICIPANT:
 Deputado Estadual: Tadeu Martins Leite
ATTENDEE;CN="Gerente Regional da COPASA - Sr. Rômulo de Souza Lima";ROLE=
 REQ-PARTICIPANT:Gerente Regional da COPASA - Sr. Rômulo de Souza Lima
ATTENDEE;CN="Vice-Prefeito, Sr. Guilherme Augusto Guimaräes Oliveira";ROL
 E=REQ-PARTICIPANT:Vice-Prefeito, Sr. Guilherme Augusto Guimaräes Oliveira
ATTENDEE;CN="Diretora do SUPRAM, Sra. Mônica Veloso Oliveira";ROLE=REQ-PA
 RTICIPANT:Diretora do SUPRAM, Sra. Mônica Veloso Oliveira
ATTENDEE;CN="Aguacenter, Sra. Zenaide Maria Zampieron";ROLE=REQ-PARTICIPAN
 T:Aguacenter, Sra. Zenaide Maria Zampieron
ATTENDEE;CN="Presidente do Comitê da Bacia Rio Verde Grande, Sr. Filávio
  Oliveira,";ROLE=REQ-PARTICIPANT:Presidente do Comitê da Bacia Rio Verde 
 Grande, Sr. Filávio Oliveira,
ATTENDEE;CN="Secretária de Estado de Meio Ambiente e Desenvolvimento Sust
 entável";ROLE=REQ-PARTICIPANT:Secretária de Estado de Meio Ambiente e De
 senvolvimento Sustentável
ATTENDEE;CN="SEMAD, Sra. Marilia Carvalho de Melo";ROLE=REQ-PARTICIPANT:SE
 MAD, Sra. Marilia Carvalho de Melo
ATTENDEE;CN="Presidente da Sociedade Rural de Montes Claros, Sr. José Hen
 rique de";ROLE=REQ-PARTICIPANT:Presidente da Sociedade Rural de Montes Cla
 ros, Sr. José Henrique de
ATTENDEE;CN="Carvalho Veloso.";ROLE=REQ-PARTICIPANT:Carvalho Veloso.
ATTENDEE;CN="Presidente do Sindicato do Produtor Rural de Montes Claros, S
 r.";ROLE=REQ-PARTICIPANT:Presidente do Sindicato do Produtor Rural de Mont
 es Claros, Sr.
ATTENDEE;CN="Alexandre de Aguiar Rocha";ROLE=REQ-PARTICIPANT:Alexandre de 
 Aguiar Rocha
CREATED;VALUE=DATE-TIME:20231106T133406Z
DESCRIPTION:Autor: Vereadora Graça da Casa do Motor
LAST-MODIFIED;VALUE=DATE-TIME:20231106T133544Z
URL:https://www.montesclaros.mg.leg.br/institucional/eventos/audiencia-pub
 lica-para-discutir-sobre-a-burocratizacao-e-perfuracao-de-pocos-artesianos
END:VEVENT
BEGIN:VTIMEZONE
TZID:Brazil/East
X-LIC-LOCATION:Brazil/East
BEGIN:DAYLIGHT
DTSTART;VALUE=DATE-TIME:20231015T010000
TZNAME:BRST
TZOFFSETFROM:-0300
TZOFFSETTO:-0200
END:DAYLIGHT
END:VTIMEZONE
END:VCALENDAR
