BEGIN:VCALENDAR
VERSION:2.0
PRODID:-//Plone.org//NONSGML plone.app.event//EN
X-WR-TIMEZONE:Brazil/East
BEGIN:VEVENT
SUMMARY:Audiência Pública para discutir o tema: “Credenciamento de Est
 acionamento para Pessoas com Deficiência (PCDs)
DTSTART;TZID=Brazil/East;VALUE=DATE-TIME:20251030T090000
DTEND;TZID=Brazil/East;VALUE=DATE-TIME:20251030T105900
DTSTAMP;VALUE=DATE-TIME:20260419T134556Z
UID:ebe41608b308455a8dc92136774e70f3@www.montesclaros.mg.leg.br
CREATED;VALUE=DATE-TIME:20251008T194915Z
DESCRIPTION:Autor: Vereador Eduardo Preto
LAST-MODIFIED;VALUE=DATE-TIME:20251030T192447Z
LOCATION:Plenário 
URL:https://www.montesclaros.mg.leg.br/institucional/eventos/audiencia-pub
 lica-para-discutir-o-tema-201ccredenciamento-de-estacionamento-para-pessoa
 s-com-deficiencia-pcds
END:VEVENT
BEGIN:VTIMEZONE
TZID:Brazil/East
X-LIC-LOCATION:Brazil/East
BEGIN:DAYLIGHT
DTSTART;VALUE=DATE-TIME:20251019T010000
TZNAME:BRST
TZOFFSETFROM:-0300
TZOFFSETTO:-0200
END:DAYLIGHT
END:VTIMEZONE
END:VCALENDAR
