BEGIN:VCALENDAR
VERSION:2.0
PRODID:-//Plone.org//NONSGML plone.app.event//EN
X-WR-TIMEZONE:Brazil/East
BEGIN:VEVENT
SUMMARY:Audiência Pública para debater sobre o Projeto de Lei nº 154/20
 23\, que dispõe sobre o parcelamento do solo urbano de Montes Claros
DTSTART;TZID=Brazil/East;VALUE=DATE-TIME:20231108T100000
DTEND;TZID=Brazil/East;VALUE=DATE-TIME:20231108T115900
DTSTAMP;VALUE=DATE-TIME:20260424T165758Z
UID:58dff4f4ca0e497182e50e264813a8eb@www.montesclaros.mg.leg.br
CREATED;VALUE=DATE-TIME:20231106T154646Z
DESCRIPTION:Comissão de Legislação\, Justiça e Redação
LAST-MODIFIED;VALUE=DATE-TIME:20231108T222021Z
URL:https://www.montesclaros.mg.leg.br/institucional/eventos/audiencia-pub
 lica-para-debater-sobre-o-projeto-de-lei-no-154-2023-que-201caltera-a-lei-
 3-720-de-09-de-maio-de-2007-que-dispoe-sobre-o-parcelamento-do-solo-urbano
 -no-municipio-de-montes-claros201d
END:VEVENT
BEGIN:VTIMEZONE
TZID:Brazil/East
X-LIC-LOCATION:Brazil/East
BEGIN:DAYLIGHT
DTSTART;VALUE=DATE-TIME:20231015T010000
TZNAME:BRST
TZOFFSETFROM:-0300
TZOFFSETTO:-0200
END:DAYLIGHT
END:VTIMEZONE
END:VCALENDAR
