BEGIN:VCALENDAR
VERSION:2.0
PRODID:-//Plone.org//NONSGML plone.app.event//EN
X-WR-TIMEZONE:Brazil/East
BEGIN:VEVENT
SUMMARY:Audiência Pública para debater sobre o Projeto de Lei nº 144/20
 23\, que “Estima a receita e fixa a despesa do Município de Montes Clar
 os para o exercício de 2024.”
DTSTART;TZID=Brazil/East;VALUE=DATE-TIME:20231108T080000
DTEND;TZID=Brazil/East;VALUE=DATE-TIME:20231108T100000
DTSTAMP;VALUE=DATE-TIME:20260424T165800Z
UID:23de0810582c4e33a68140fcea54a779@www.montesclaros.mg.leg.br
CREATED;VALUE=DATE-TIME:20231025T201055Z
DESCRIPTION:Autor: Comissão de Legislação\, Justiça e Redação
LAST-MODIFIED;VALUE=DATE-TIME:20231108T221958Z
URL:https://www.montesclaros.mg.leg.br/institucional/eventos/audiencia-pub
 lica-para-debater-sobre-o-projeto-de-lei-no-144-2023-que-201cestima-a-rece
 ita-e-fixa-a-despesa-do-municipio-de-montes-claros-para-o-exercicio-de-202
 4.201d
END:VEVENT
BEGIN:VTIMEZONE
TZID:Brazil/East
X-LIC-LOCATION:Brazil/East
BEGIN:DAYLIGHT
DTSTART;VALUE=DATE-TIME:20231015T010000
TZNAME:BRST
TZOFFSETFROM:-0300
TZOFFSETTO:-0200
END:DAYLIGHT
END:VTIMEZONE
END:VCALENDAR
