BEGIN:VCALENDAR
VERSION:2.0
PRODID:-//Plone.org//NONSGML plone.app.event//EN
X-WR-TIMEZONE:Brazil/East
BEGIN:VEVENT
SUMMARY:Audiência Pública para apresentação da Prestação de Contas d
 o 2º Quadrimestre do Exercício de 2025.
DTSTART;TZID=Brazil/East;VALUE=DATE-TIME:20250926T080000
DTEND;TZID=Brazil/East;VALUE=DATE-TIME:20250926T090000
DTSTAMP;VALUE=DATE-TIME:20260419T134622Z
UID:55d77a705f274171a5e00f804d59f185@www.montesclaros.mg.leg.br
CREATED;VALUE=DATE-TIME:20250917T111615Z
DESCRIPTION:Secretaria Municipal de Finanças
LAST-MODIFIED;VALUE=DATE-TIME:20250917T111636Z
URL:https://www.montesclaros.mg.leg.br/institucional/eventos/audiencia-pub
 lica-para-apresentacao-da-prestacao-de-contas-do-2o-quadrimestre-do-exerci
 cio-de-2025
END:VEVENT
BEGIN:VTIMEZONE
TZID:Brazil/East
X-LIC-LOCATION:Brazil/East
BEGIN:STANDARD
DTSTART;VALUE=DATE-TIME:20250215T230000
TZNAME:BRT
TZOFFSETFROM:-0200
TZOFFSETTO:-0300
END:STANDARD
END:VTIMEZONE
END:VCALENDAR
