BEGIN:VCALENDAR
VERSION:2.0
PRODID:-//Plone.org//NONSGML plone.app.event//EN
X-WR-TIMEZONE:Brazil/East
BEGIN:VEVENT
SUMMARY:Audiência Pública para apresentação da Prestação de Contas d
 o 2º Quadrimestre do Exercício de 2025. 
DTSTART;TZID=Brazil/East;VALUE=DATE-TIME:20250926T090000
DTEND;TZID=Brazil/East;VALUE=DATE-TIME:20250926T100000
DTSTAMP;VALUE=DATE-TIME:20260419T134621Z
UID:b41ffc74aa984551970564a86aa833a3@www.montesclaros.mg.leg.br
CREATED;VALUE=DATE-TIME:20250917T111852Z
DESCRIPTION:Secretaria Municipal de Saúde
LAST-MODIFIED;VALUE=DATE-TIME:20250917T111936Z
URL:https://www.montesclaros.mg.leg.br/institucional/eventos/audiencia-pub
 lica-para-apresentacao-da-prestacao-de-contas-do-2o-quadrimestre-do-exerci
 cio-de-2025-1
END:VEVENT
BEGIN:VTIMEZONE
TZID:Brazil/East
X-LIC-LOCATION:Brazil/East
BEGIN:STANDARD
DTSTART;VALUE=DATE-TIME:20250215T230000
TZNAME:BRT
TZOFFSETFROM:-0200
TZOFFSETTO:-0300
END:STANDARD
END:VTIMEZONE
END:VCALENDAR
