BEGIN:VCALENDAR
VERSION:2.0
PRODID:-//Plone.org//NONSGML plone.app.event//EN
X-WR-TIMEZONE:Brazil/East
BEGIN:VEVENT
SUMMARY:Audiência Pública: discutir sobre a situação de psicólogos e 
 assistentes sociais na educação
DTSTART;TZID=Brazil/East;VALUE=DATE-TIME:20230613T190000
DTEND;TZID=Brazil/East;VALUE=DATE-TIME:20230613T200000
DTSTAMP;VALUE=DATE-TIME:20260425T095815Z
UID:b34149967226433dba14a52006d86f55@www.montesclaros.mg.leg.br
ATTENDEE;CN="Rejane Veloso - Secretária Municipal Educação";ROLE=REQ-PA
 RTICIPANT:Rejane Veloso - Secretária Municipal Educação
ATTENDEE;CN="Dulce Pimenta - Secretária Municipal de Saúde";ROLE=REQ-PAR
 TICIPANT:Dulce Pimenta - Secretária Municipal de Saúde
ATTENDEE;CN="Aurindo Ribeiro - Secretário Municipal de Desenvolvimento So
 cial";ROLE=REQ-PARTICIPANT:Aurindo Ribeiro - Secretário Municipal de Dese
 nvolvimento Social
ATTENDEE;CN="Karine Neves Dias - Conselho Municipal da Criança e do Adole
 scente";ROLE=REQ-PARTICIPANT:Karine Neves Dias - Conselho Municipal da Cri
 ança e do Adolescente
ATTENDEE;CN="Adriana Barbosa Paulo - Representante de pais e alunos da red
 e municipal";ROLE=REQ-PARTICIPANT:Adriana Barbosa Paulo - Representante de
  pais e alunos da rede municipal
ATTENDEE;CN="Meirielle Duarte Pereira - Coordenadora Educação Inclusiva"
 ;ROLE=REQ-PARTICIPANT:Meirielle Duarte Pereira - Coordenadora Educação I
 nclusiva
ATTENDEE;CN="Bruna Cristina Alves - Representante Assistente Social (Educa
 ção)";ROLE=REQ-PARTICIPANT:Bruna Cristina Alves - Representante Assisten
 te Social (Educação)
ATTENDEE;CN="Suzana Alves dos Santos Barros - Coordenadora do Conselho Reg
 ional de Serviço Social";ROLE=REQ-PARTICIPANT:Suzana Alves dos Santos Bar
 ros - Coordenadora do Conselho Regional de Serviço Social
ATTENDEE;CN="Débora de Souza Fernandes Figueiredo - Cemei São Francisco 
 de Assis";ROLE=REQ-PARTICIPANT:Débora de Souza Fernandes Figueiredo - Cem
 ei São Francisco de Assis
ATTENDEE;CN="Representante do Creas 1";ROLE=REQ-PARTICIPANT:Representante 
 do Creas 1
ATTENDEE;CN="Representante do Conselho Tutelar";ROLE=REQ-PARTICIPANT:Repre
 sentante do Conselho Tutelar
ATTENDEE;CN="Lúcio Patrus Ananias - Diretor Financeiro de Desenvolvimento
  Social";ROLE=REQ-PARTICIPANT:Lúcio Patrus Ananias - Diretor Financeiro d
 e Desenvolvimento Social
ATTENDEE;CN="Representante dos Psicólogos";ROLE=REQ-PARTICIPANT:Represent
 ante dos Psicólogos
ATTENDEE;CN="Celso Francisco Tondim  - Coordenador da comissão de orienta
 ção em psicologia escolar e educacional.";ROLE=REQ-PARTICIPANT:Celso Fra
 ncisco Tondim  - Coordenador da comissão de orientação em psicologia es
 colar e educacional.
CREATED;VALUE=DATE-TIME:20230612T134004Z
DESCRIPTION:Autor: Vereador Daniel Dias 
LAST-MODIFIED;VALUE=DATE-TIME:20230612T150824Z
URL:https://www.montesclaros.mg.leg.br/institucional/eventos/audiencia-pub
 lica-discutir-sobre-a-situacao-de-psicologos-e-assistentes-sociais-na-educ
 acao
END:VEVENT
BEGIN:VTIMEZONE
TZID:Brazil/East
X-LIC-LOCATION:Brazil/East
BEGIN:STANDARD
DTSTART;VALUE=DATE-TIME:20230225T230000
TZNAME:BRT
TZOFFSETFROM:-0200
TZOFFSETTO:-0300
END:STANDARD
END:VTIMEZONE
END:VCALENDAR
