BEGIN:VCALENDAR
VERSION:2.0
PRODID:-//Plone.org//NONSGML plone.app.event//EN
X-WR-TIMEZONE:Brazil/East
BEGIN:VEVENT
SUMMARY:Audiência pública: discutir o tema - “Diga não à violência 
 contra os professores” 
DTSTART;TZID=Brazil/East;VALUE=DATE-TIME:20230524T160000
DTEND;TZID=Brazil/East;VALUE=DATE-TIME:20230524T170000
DTSTAMP;VALUE=DATE-TIME:20260425T134642Z
UID:b69b6c84e76f444ca5216a2a5ed28d21@www.montesclaros.mg.leg.br
CREATED;VALUE=DATE-TIME:20230404T131648Z
DESCRIPTION:Autoria: Vereadora Professora Iara Pimentel 
LAST-MODIFIED;VALUE=DATE-TIME:20230404T131652Z
URL:https://www.montesclaros.mg.leg.br/institucional/eventos/audiencia-pub
 lica-discutir-o-tema-201cdiga-nao-a-violencia-contra-os-professores201d
END:VEVENT
BEGIN:VTIMEZONE
TZID:Brazil/East
X-LIC-LOCATION:Brazil/East
BEGIN:STANDARD
DTSTART;VALUE=DATE-TIME:20230225T230000
TZNAME:BRT
TZOFFSETFROM:-0200
TZOFFSETTO:-0300
END:STANDARD
END:VTIMEZONE
END:VCALENDAR
