BEGIN:VCALENDAR
VERSION:2.0
PRODID:-//Plone.org//NONSGML plone.app.event//EN
X-WR-TIMEZONE:Brazil/East
BEGIN:VEVENT
SUMMARY:Audiência Pública com o tema “Defesa das pessoas com autismo".
DTSTART;TZID=Brazil/East;VALUE=DATE-TIME:20250403T090000
DTEND;TZID=Brazil/East;VALUE=DATE-TIME:20250403T120000
DTSTAMP;VALUE=DATE-TIME:20260420T104436Z
UID:d8af7b0f0df946a4a003d32a4572ff95@www.montesclaros.mg.leg.br
CREATED;VALUE=DATE-TIME:20250328T135159Z
DESCRIPTION:Autor: Vereador Eduardo Preto
LAST-MODIFIED;VALUE=DATE-TIME:20250328T135211Z
URL:https://www.montesclaros.mg.leg.br/institucional/eventos/audiencia-pub
 lica-com-o-tema-201cdefesa-das-pessoas-com-autismo
END:VEVENT
BEGIN:VTIMEZONE
TZID:Brazil/East
X-LIC-LOCATION:Brazil/East
BEGIN:STANDARD
DTSTART;VALUE=DATE-TIME:20250215T230000
TZNAME:BRT
TZOFFSETFROM:-0200
TZOFFSETTO:-0300
END:STANDARD
END:VTIMEZONE
END:VCALENDAR
