BEGIN:VCALENDAR
VERSION:2.0
PRODID:-//Plone.org//NONSGML plone.app.event//EN
X-WR-TIMEZONE:Brazil/East
BEGIN:VEVENT
SUMMARY:Audiência Pública - 4ª Jornada reforma agrária
DTSTART;TZID=Brazil/East;VALUE=DATE-TIME:20240510T083000
DTSTAMP;VALUE=DATE-TIME:20260424T084429Z
UID:df192a1cfc464ca8b0ae27387b008bba@www.montesclaros.mg.leg.br
ATTENDEE;CN="1. Gabriel Rafael dos Santos Pascoal - Dirigente regional do 
 MST e coordenador da Juventude Sem Terra";ROLE=REQ-PARTICIPANT:1. Gabriel 
 Rafael dos Santos Pascoal - Dirigente regional do MST e coordenador da Juv
 entude Sem Terra
ATTENDEE;CN="2- Gilma Maria Carvalho dos Santos";ROLE=REQ-PARTICIPANT:2- G
 ilma Maria Carvalho dos Santos
ATTENDEE;CN="Dirigente regional do MST, acampada no João Pedro Teixeira e
  do Coletivo de Mulheres Flores de Pequi";ROLE=REQ-PARTICIPANT:Dirigente r
 egional do MST, acampada no João Pedro Teixeira e do Coletivo de Mulheres
  Flores de Pequi
ATTENDEE;CN="3. Guê Oliveira";ROLE=REQ-PARTICIPANT:3. Guê Oliveira
ATTENDEE;CN="Militante do MST, artista popular, coletivo de cultura do MST
 ";ROLE=REQ-PARTICIPANT:Militante do MST, artista popular, coletivo de cult
 ura do MST
ATTENDEE;CN="4. Gustavo Henrique Cepolini";ROLE=REQ-PARTICIPANT:4. Gustavo
  Henrique Cepolini
ATTENDEE;CN="Professor do Departamento de Geociências, PPGeo e PPGDS da U
 nimontes, coordenar do Núcleo de";ROLE=REQ-PARTICIPANT:Professor do Depar
 tamento de Geociências, PPGeo e PPGDS da Unimontes, coordenar do Núcleo 
 de
ATTENDEE;CN="Estudos e Pesquisas Regionais e Agrários - NEPRA.";ROLE=REQ-
 PARTICIPANT:Estudos e Pesquisas Regionais e Agrários - NEPRA.
ATTENDEE;CN="5. Magda Martins Macêdo";ROLE=REQ-PARTICIPANT:5. Magda Marti
 ns Macêdo
ATTENDEE;CN="Professora do Departamento de Educação. Coordenadora do Lab
 oratório de Educação do Campo no Qj'";ROLE=REQ-PARTICIPANT:Professora d
 o Departamento de Educação. Coordenadora do Laboratório de Educação d
 o Campo no Qj"
ATTENDEE;CN="Semiárido Mineiro. Articulação Por uma Educação do Campo
  Indígena Quilombola no Semiárido";ROLE=REQ-PARTICIPANT:Semiárido Minei
 ro. Articulação Por uma Educação do Campo Indígena Quilombola no Semi
 árido
ATTENDEE;CN="6. Valteide Coelho";ROLE=REQ-PARTICIPANT:6. Valteide Coelho
ATTENDEE;CN="Dirigente regional do MST e assentado no Assentamento Estrela
  do Norte";ROLE=REQ-PARTICIPANT:Dirigente regional do MST e assentado no A
 ssentamento Estrela do Norte
ATTENDEE;CN="7. Neiguimar Dias da Silva";ROLE=REQ-PARTICIPANT:7. Neiguimar
  Dias da Silva
ATTENDEE;CN="Dirigente regional do MST";ROLE=REQ-PARTICIPANT:Dirigente reg
 ional do MST
ATTENDEE;CN="Coordenadora do Centro de Formação Delcio e Ezequias e Cole
 tivo de Mulheres Flores de Pequi";ROLE=REQ-PARTICIPANT:Coordenadora do Cen
 tro de Formação Delcio e Ezequias e Coletivo de Mulheres Flores de Pequi
ATTENDEE;CN="8. Carolina Caldeira";ROLE=REQ-PARTICIPANT:8. Carolina Caldei
 ra
ATTENDEE;CN="Diretorio Central dos Estudantes da Unimontes, comunicadora p
 opular";ROLE=REQ-PARTICIPANT:Diretorio Central dos Estudantes da Unimontes
 , comunicadora popular
ATTENDEE;CN="9. Daniela Ingrid Alves Borges";ROLE=REQ-PARTICIPANT:9. Danie
 la Ingrid Alves Borges
ATTENDEE;CN="Militante do MST e Coletivo de Mulheres Flores de Pequi";ROLE
 =REQ-PARTICIPANT:Militante do MST e Coletivo de Mulheres Flores de Pequi
ATTENDEE;CN="10. Gabriel Reis Chaves";ROLE=REQ-PARTICIPANT:10. Gabriel Rei
 s Chaves
ATTENDEE;CN="Advogado Popular e membro Coletivo de Direitos Humanos MST";R
 OLE=REQ-PARTICIPANT:Advogado Popular e membro Coletivo de Direitos Humanos
  MST
CREATED;VALUE=DATE-TIME:20240430T194914Z
DESCRIPTION:Autoria: Vereadora Iara Pimentel
LAST-MODIFIED;VALUE=DATE-TIME:20240509T203626Z
LOCATION:Plenário
URL:https://www.montesclaros.mg.leg.br/institucional/eventos/audiencia-pub
 lica-4a-jornada-reforma-agraria
END:VEVENT
BEGIN:VTIMEZONE
TZID:Brazil/East
X-LIC-LOCATION:Brazil/East
BEGIN:STANDARD
DTSTART;VALUE=DATE-TIME:20240217T230000
TZNAME:BRT
TZOFFSETFROM:-0200
TZOFFSETTO:-0300
END:STANDARD
END:VTIMEZONE
END:VCALENDAR
