BEGIN:VCALENDAR
VERSION:2.0
PRODID:-//Plone.org//NONSGML plone.app.event//EN
X-WR-TIMEZONE:Brazil/East
BEGIN:VEVENT
SUMMARY:Audiência pública sobre a reforma do mercado
DTSTART;TZID=Brazil/East;VALUE=DATE-TIME:20250410T080000
DTEND;TZID=Brazil/East;VALUE=DATE-TIME:20250410T120000
DTSTAMP;VALUE=DATE-TIME:20260420T121950Z
UID:a40d5999bcc64b38a49ec82d14e04af0@www.montesclaros.mg.leg.br
ATTENDEE;CN="Audiência Pública para discutir sobre a Reforma do Mercado 
 Municipal de Montes Claros.";ROLE=REQ-PARTICIPANT:Audiência Pública para
  discutir sobre a Reforma do Mercado Municipal de Montes Claros.
CREATED;VALUE=DATE-TIME:20250328T135724Z
DESCRIPTION:Autora: Maria Helena Lopes
LAST-MODIFIED;VALUE=DATE-TIME:20250328T135845Z
URL:https://www.montesclaros.mg.leg.br/institucional/eventos/ajdk-1
END:VEVENT
BEGIN:VTIMEZONE
TZID:Brazil/East
X-LIC-LOCATION:Brazil/East
BEGIN:STANDARD
DTSTART;VALUE=DATE-TIME:20250215T230000
TZNAME:BRT
TZOFFSETFROM:-0200
TZOFFSETTO:-0300
END:STANDARD
END:VTIMEZONE
END:VCALENDAR
